BEGIN:VCALENDAR
PRODID:-//Det Danske Spejderkorps//NONSGML Gruppeweb//EN
VERSION:2.0
CALSCALE:GREGORIAN
X-PUBLISHED-TTL:PT1H
X-WR-CALNAME:Juniorer (Fjeldrotter)
METHOD:PUBLISH
BEGIN:VEVENT
UID:gruppeweb.dk:7516:event:645
DTSTAMP:20260423T153243Z
LAST-MODIFIED:20250922T130907Z
SUMMARY:LEDERPLANLÆGSWEEKEND
DESCRIPTION:\n
URL:https://1.rygruppe.dk/begivenhed/lederplanlaegsweekend
DTSTART;VALUE=DATE:20260123
DTEND;VALUE=DATE:20260126
LOCATION:
END:VEVENT
BEGIN:VEVENT
UID:gruppeweb.dk:7516:event:653
DTSTAMP:20260423T153243Z
LAST-MODIFIED:20251103T173632Z
SUMMARY:Juletur til Sletten 2025
DESCRIPTION:*\n       *\n*Juletur til Sletten\n     *\n\nSå er det igen ti
 d til vores traditionelle juletur til Sletten. I år er det  \nweekenden 6
 .- 7. december.\nTraditionen\ntro er turen for alle grenene\, fra myrer ti
 l klan\, og der juledystes i\npatruljer på tværs af grenene.\nSå hvem m
 on får deres navne på juledystskindet i år?\nVi mødes alle sammen ved 
 Ny Sletten lørdag den 6. december *kl. 8.30*. Husk  \nat tage godt med va
 rmt tøj på\, da vi\nskal være ude det meste af tiden.\nMyrerne slutter 
 juleturen om eftermiddagen\, hvor der er forældrekaffe *kl.  \n15.30-16.0
 0* og kåring af vinderne af årets juledyst\, hvorefter vi siger  \nfarve
 l til myrerne\nog deres forældre.\nSkovmus\, fjeldrotter\, trop og klan b
 liver til søndag\, hvor juleweekenden  \nslutter *kl. 10.30.*\nHusk lomme
 lygte eller pandelampe\, da det hurtigt bliver mørkt og lidt  \nuhyggelig
 t på Sletten sådan en vinteraften. Husk også hjemmesko\, der er  \ntræ
 gulv det kan give splinter. Din leder sender særlig pakkeliste ud.\nPris 
 for myrer er 75\,00 kr. og for skovmus\, fjeldrotter og tropsspejdere er  
 \nprisen 150\,00 kr.\nAdressen er\nBøgedalsvej 16\, 8680 Ry. HUSK at føl
 ge kørselsretningen til og fra Ny  \nSletten –\nsom det vises på skilt
 ene\, når man kommer ind på FDFs område. Ellers kan  \ndet\nblive besv
 ærligt\, når mange forældre skal bringe\neller hente på samme tid.\n\n
 \n\n\n*\n       Tilmelding senest mandag den 24. november*\n\n
URL:https://1.rygruppe.dk/begivenhed/juletur-til-sletten-2025
DTSTART:20251206T073000Z
DTEND:20251207T093000Z
LOCATION:Ny Sletten\, Bøgedalsvej 16\, 8680 Ry
END:VEVENT
BEGIN:VEVENT
UID:gruppeweb.dk:7516:event:680
DTSTAMP:20260423T153243Z
LAST-MODIFIED:20260214T204641Z
SUMMARY:Flagtjans Fjeldrotter 2/5
DESCRIPTION:Fjeldrotterne har flagtjansen denne dag. Vi har brug for et hol
 d af forældre  \nog Fjeldrottespejder til at hjælpe med opsætningen kl.
  7 og et hold til  \nnedtagning kl. 17.\n\nTag meget gerne jeres Fjeldrott
 espejder med på turen :)\n\n
URL:https://1.rygruppe.dk/begivenhed/flagtjans-fjeldrotter-25
DTSTART:20260502T050000Z
DTEND:20260502T150000Z
LOCATION:Juniorer (Fjeldrotter)\, Skanderborgvej 86\, 8680 Ry
END:VEVENT
BEGIN:VEVENT
UID:gruppeweb.dk:7516:event:681
DTSTAMP:20260423T153243Z
LAST-MODIFIED:20260214T204638Z
SUMMARY:Flagtjans Fjeldrotter 20/6
DESCRIPTION:Fjeldrotterne har flagtjansen denne dag. Vi har brug for et hol
 d af forældre  \nog Fjeldrottespejder til at hjælpe med opsætningen kl.
  7 og et hold til  \nnedtagning kl. 17.\n\nTag meget gerne jeres Fjeldrott
 espejder med på turen :)\n\n
URL:https://1.rygruppe.dk/begivenhed/flagtjans-fjeldrotter-206
DTSTART:20260620T050000Z
DTEND:20260620T150000Z
LOCATION:Juniorer (Fjeldrotter)\, Skanderborgvej 86\, 8680 Ry
END:VEVENT
BEGIN:VEVENT
UID:gruppeweb.dk:7516:event:703
DTSTAMP:20260423T153243Z
LAST-MODIFIED:20260331T143158Z
SUMMARY:INDABA 2026 - FJELDEROTTER
DESCRIPTION:Hvis du ikke ved\, hvad Indaba er\, så er det et spejderkursus
 \, som Gudenå  \nDivision afholder med stort fokus på sjov og fællesska
 b på tværs af  \ndivisionens grupper. Vi garanterer en masse fantastisk
 e oplevelser\, nye  \nvenner og udfordring af dine spejderfærdigheder!\n\
 nMan er på kursus med sin egen aldersgruppe i blandede patruljer på tvæ
 rs  \naf grupperne. Så junior spejdere er på kursus med andre junior spe
 jdere.\n\nForuden at tilmelde sig her\, er det VIGTIGT\, at du også tilm
 elder dig på  \nIndabas egen tilmeldingsside!!\nMan er kun tilmeldt Indab
 a\, hvis man tilmelder sig på begge sider\, da  \ntilmeldingen til selve 
 Indaba er på deres egen side\, mens betalingen går  \ngennem vores side\
 ,\n\nTilmeldings steps:\nStep 1:\nTilmeld dig via dette arrangement. Inkl.
  deltager betaling på 350\,-\n\nStep 2:\nTilmelding hos Indaba: INDABA 2
 026 [1]\n\nPraktisk info fra Indaba:\nHvor? \n- DDS - Ryekol - Galgebakke
 n 12\, 8680 Ry\nHvornår?\n- Fredag d. 22. maj - mandag d. 25. maj - Indab
 a 0 (2. års junior) mødes  \nførst lørdag d. 23. maj\nHvad er Indaba?\
 n- Indaba er inddelt i seks niveauer efter alder (2. års junior\, 1.\, 2.
 \, 3.  \nog 4. års tropsspejder + seniorer til og med 18 år). Hvis du g
 år i 5.  \nklasse skal du på Indaba 0\, hvis du går i 6. klasse skal du
  på Indaba 1  \nosv. Indaba 5 er for dem der er gået ud af 9. klasse. \
 nDu får altså en helt ny gruppe venner\, på din egen alder. Sammen bliv
 er I  \nstillet en masse sjove opgaver af jeres vejlederteam\, som består
  af friske  \nspejdere fra Gudenå Division!\n\n\n[1] https://grp7500.grup
 peweb.dk/begivenhed/indaba-2026\n
URL:https://1.rygruppe.dk/begivenhed/indaba-2026-fjelderotter
DTSTART:20260523T063000Z
DTEND:20260525T090000Z
LOCATION:Ryekol\, Galgebakken 12\, 8680 Ry
END:VEVENT
END:VCALENDAR
